BEGIN:VCALENDAR
VERSION:2.0
PRODID:-//Kaleidoscopic UK - ECPv5.12.2//NONSGML v1.0//EN
CALSCALE:GREGORIAN
METHOD:PUBLISH
X-WR-CALNAME:Kaleidoscopic UK
X-ORIGINAL-URL:https://www.kaleidoscopic.uk
X-WR-CALDESC:Events for Kaleidoscopic UK
BEGIN:VTIMEZONE
TZID:Europe/London
BEGIN:DAYLIGHT
TZOFFSETFROM:+0000
TZOFFSETTO:+0100
TZNAME:BST
DTSTART:20240331T010000
END:DAYLIGHT
BEGIN:STANDARD
TZOFFSETFROM:+0100
TZOFFSETTO:+0000
TZNAME:GMT
DTSTART:20241027T010000
END:STANDARD
END:VTIMEZONE
BEGIN:VEVENT
DTSTART;TZID=Europe/London:20241211T190000
DTEND;TZID=Europe/London:20241212T000000
DTSTAMP:20260423T081556
CREATED:20241015T073230Z
LAST-MODIFIED:20241015T073230Z
UID:3735-1733943600-1733961600@www.kaleidoscopic.uk
SUMMARY:Winter Wonderland Charity Ball
DESCRIPTION:  \n  \n  \n  \n  \n  \n  \n  \n  \n  \n  \n  \n  \n  \n  \n  \n  \n  \n  \n  \n  \n  \n  \n  \n  \n  \n  \n  \n  \n  \n  \nBUY TICKETS HERE
URL:https://www.kaleidoscopic.uk/event/winter-wonderland-charity-ball/
END:VEVENT
END:VCALENDAR