BEGIN:VCALENDAR
VERSION:2.0
PRODID:-//Kaleidoscopic UK - ECPv5.12.2//NONSGML v1.0//EN
CALSCALE:GREGORIAN
METHOD:PUBLISH
X-WR-CALNAME:Kaleidoscopic UK
X-ORIGINAL-URL:https://www.kaleidoscopic.uk
X-WR-CALDESC:Events for Kaleidoscopic UK
BEGIN:VTIMEZONE
TZID:Europe/London
BEGIN:DAYLIGHT
TZOFFSETFROM:+0000
TZOFFSETTO:+0100
TZNAME:BST
DTSTART:20240331T010000
END:DAYLIGHT
BEGIN:STANDARD
TZOFFSETFROM:+0100
TZOFFSETTO:+0000
TZNAME:GMT
DTSTART:20241027T010000
END:STANDARD
END:VTIMEZONE
BEGIN:VEVENT
DTSTART;TZID=Europe/London:20241101T191500
DTEND;TZID=Europe/London:20241101T204500
DTSTAMP:20260423T121108
CREATED:20241016T071954Z
LAST-MODIFIED:20241016T071954Z
UID:3746-1730488500-1730493900@www.kaleidoscopic.uk
SUMMARY:Christmas Wreath Workshop
DESCRIPTION:  \n  \n  \n  \n  \n  \n  \n  \n  \n  \n  \n  \n  \n  \n  \n  \n  \n  \n  \n  \n  \n  \n  \n  \n  \n  \n  \n  \n  \n  \n  \nBUY TICKETS HERE
URL:https://www.kaleidoscopic.uk/event/christmas-wreath-workshop/
END:VEVENT
END:VCALENDAR