BEGIN:VCALENDAR
VERSION:2.0
PRODID:-//Kaleidoscopic UK - ECPv5.12.2//NONSGML v1.0//EN
CALSCALE:GREGORIAN
METHOD:PUBLISH
X-WR-CALNAME:Kaleidoscopic UK
X-ORIGINAL-URL:https://www.kaleidoscopic.uk
X-WR-CALDESC:Events for Kaleidoscopic UK
BEGIN:VTIMEZONE
TZID:Europe/London
BEGIN:DAYLIGHT
TZOFFSETFROM:+0000
TZOFFSETTO:+0100
TZNAME:BST
DTSTART:20240331T010000
END:DAYLIGHT
BEGIN:STANDARD
TZOFFSETFROM:+0100
TZOFFSETTO:+0000
TZNAME:GMT
DTSTART:20241027T010000
END:STANDARD
END:VTIMEZONE
BEGIN:VEVENT
DTSTART;TZID=Europe/London:20241012T190000
DTEND;TZID=Europe/London:20241012T213000
DTSTAMP:20260423T155436
CREATED:20240722T082627Z
LAST-MODIFIED:20240722T091600Z
UID:3661-1728759600-1728768600@www.kaleidoscopic.uk
SUMMARY:Charity Choir Concert
DESCRIPTION:BUY TICKETS HERE
URL:https://www.kaleidoscopic.uk/event/charity-choir-concert/
LOCATION:All Saints Church\, Wiltshire Road\, Wokingham\, RG40 1TN
END:VEVENT
END:VCALENDAR